BEGIN:VCALENDAR
VERSION:2.0
PRODID:-//www.kirchlindach.ch//NONSGML kigkonsult.se iCalcreator 2.22//
CALSCALE:GREGORIAN
METHOD:PUBLISH
X-WR-TIMEZONE:Europe/Berlin
BEGIN:VEVENT
UID:20260425T144505CEST-4313OkghSN@www.kirchlindach.ch
DTSTAMP:20260425T124505Z
DESCRIPTION:Klicken Sie auf den folgenden Link\, um weitere Informationen z
 ur Veranstaltung zu erhalten:\nhttp://www.kirchlindach.ch/de/veranstaltung
 en/detail/detail.php?i=73
DTSTART:20260425T120000
DTEND:20260425T180000
LOCATION:Schulhaus Kirchlindach
SUMMARY:Kochkurs 'Asiatische Teigtaschen'
END:VEVENT
END:VCALENDAR
