BEGIN:VCALENDAR
VERSION:2.0
PRODID:-//www.kirchlindach.ch//NONSGML kigkonsult.se iCalcreator 2.22//
CALSCALE:GREGORIAN
METHOD:PUBLISH
X-WR-TIMEZONE:Europe/Berlin
BEGIN:VEVENT
UID:20260422T130320CEST-15099oXMLx@www.kirchlindach.ch
DTSTAMP:20260422T110320Z
DESCRIPTION:Klicken Sie auf den folgenden Link\, um weitere Informationen z
 ur Veranstaltung zu erhalten:\nhttp://www.kirchlindach.ch/de/veranstaltung
 en/detail/detail.php?i=62
DTSTART:20260424T200000
DTEND:20260424T220000
LOCATION:Schulhaus / Turnhalle Herrenschwanden
SUMMARY:Frühjahrskonzert
END:VEVENT
END:VCALENDAR
